BEGIN:VCALENDAR
VERSION:1.0
PRODID:-//Microsoft Corporation//Outlook MIMEDIR//EN
CALSCALE:GREGORIAN
BEGIN:VEVENT
DTSTAMP:20260420T120816Z
UID:267c2fdc-d4b7-412a-8848-8b08623bcdf3
DTSTART:20260512T183000
DTEND:20260512T193000
DESCRIPTION:<h3><span style="font-size: 28px\;">✨ Comprendre la réforme 
 du "plaider-coupable" criminel !</span></h3>\n<p><strong><span style="font
 -size: 18px\;">Par Jean BOISSON</span></strong></p>\n<h2>La présentation&
 nbsp\;</h2><em>Le 12 mai\, l’antenne Chambéry/Annecy propose une confé
 rence dédiée à un sujet clé de la justice actuelle : la réforme du pl
 aider-coupable.&nbsp\;Invité à intervenir\, Jean Boisson\, Bâtonnier de
  l’Ordre des avocats de Chambéry\, prendra la parole\, au travers notam
 ment d’exemples pratiques\, pour expliquer les évolutions en cours et l
 eurs conséquences concrètes.</em><strong><br><br>⚖️ En bref : de quo
 i parle la réforme ?</strong><br>La procédure de jugement des crimes rec
 onnus (PJCR) comparable à la comparution sur reconnaissance préalable de
  culpabilité((CRPC) correctionnelle — permet à une personne de reconna
 ître une infraction et d’accepter une peine proposée\, sans passer par
  un procès classique.<strong><br><br>Aujourd’hui\, la réforme vise à 
 :</strong><br>* utiliser cette procédure plus largement et l’appliquer 
 aux crimes\, <br>* aller plus vite dans le traitement des affaires\,<br>* 
 simplifier certaines étapes.<strong><br><br>Mais ces changements posent a
 ussi des questions importantes :</strong><br>* peut-on accélérer la just
 ice sans en fragiliser les garanties ?<br>* le justiciable est-il toujours
  en mesure de décider librement ?<br>* quelle est la place de l’avocat 
 dans ce type de procédure ?<strong><br>Cette conférence propose d’écl
 airer ces enjeux\, dans un format accessible et ouvert à la discussion.<b
 r></strong>\n<p><span style="font-size: 24px\;"><strong>👤 Bio – Jean 
 BOISSON</strong></span></p>\n<p>Jean Boisson est avocat au barreau de Cham
 béry et Bâtonnier de l’Ordre des avocats. Il exerce notamment en droit
  social\, droit commercial et intervient ponctuellement en droit pénal. D
 ans le cadre de ses fonctions\, il participe aux réflexions relatives aux
  transformations de la justice et de la profession d’avocat.<br></p>
LOCATION:Anderlaine - Rue de la Petite-Eau 82\, 73290 La Motte Servolet / C
 hambéry\, FR
SUMMARY:Plaider-coupable criminel !
URL:https://lecde.club/fr/events/plaider-coupable-criminel.html
END:VEVENT
END:VCALENDAR
